Workbook

Sheet 海外书单
A1: 波兰晨光流动书房
A2: 您好：您可以通过下列序号索引快速找到所需类别书籍。（注：括号内为相应出版社）
A3: 序号001-050：美国麦种图书 （出版社美国麦种）
A4: 序号051-089：圣经 （环球圣经公会，汉语圣经协会，橄榄华宣、台湾道声、基督使者）
A5: 序号090-097：儿童绘本读物 （国际圣经汉语出版社、环球圣经公会、汉语圣经协会）
A6: 序号 098 ：福音文学 （美国使者）
A7: 序号099-103：婚恋家庭亲子 （香港道声、基督使者、美国使者、校园、中主）
A8: 序号104-115：见证传记 （基督使者、加拿大信徒布道会、神州传播协会、台湾道声、校园、美国使者）
A9: 序号116-128：教会牧养 （美国使者、橄榄华宣、更新传道会、基督使者、基石、举手网络、香港道声、天道、校园、中主、中华福音神学院）
A10: 序号 129 ：历史与文化 （基督使者）
A11: 序号130-136：灵命塑造 （道声、中主、校园、基督使者）
A12: 序号137-153：圣经辅导 （更新传道会、道声、美国使者、国际真爱家庭、基督使者）
... A17: 海外书单
A18: 序号 | B18: 类别 | C18: 图书封面 | D18: 图书名称 | E18: 图书简介 | F18: 页数 | G18: 书 号 | H18: 作者 | I18: 出版社 | J18: 人民币 | K18: 欧 元 | L18: 库存 | M18: 备注
A19: 1 | B19: 美国麦种 | D19: 讲道与讲道的人--麦种 | E19: 锺马田医生被公认为二十世纪最伟大的讲道者（之一），神学家巴刻（J. I. Packer）这样评论：「我从未听过这样的讲道。……带着电击的力量。」透过当年的录音、经过编辑出版的讲道集、以及各种语言的翻译，他的影响力今日较之当年有过之而无不及，令许多无法亲自在场感受其冲击力的人得以稍稍领受他那忠于圣经、带着圣灵恩膏的信息。在伦敦威斯敏斯特教堂事奉三十年，于1968年因病提早退休，经过一场大手术之后，锺马田次年受邀横渡大西洋，在费城威斯敏斯特神学院（Westminster Theological Seminary）主讲一系列有关讲道的讲座，此书即基于该讲座记录编辑而成。「医生」积累四十余年讲道与牧养事奉的经验、广泛阅读，加上医学素养，其信息在四十多年后仍如暮鼓晨钟，甚至比当年更加切合时宜。你不会同意医生所说的一切，但他必定会挑战你思考讲道和讲道的人这个主题。 | F19: 368 | G19: 9781939251190 | H19: 钟马田 D. Martyn Lloyd-Jones | I19: 美国麦种 | J19: 119.6 | K19: 13.0312 | L19: 0
A20: 2 | B20: 美国麦种 | D20: 耶稣所传的福音--麦种 | E20: 在本书，麦卡瑟讨论的不是一个或数个信仰外在的问题，而是所有问题的核心－那就是，成为一个基督徒是什么意思？他的回答正触及现代基督教福音派最大的弱点，最可悲的错误。今天流行的福音赐给罪人一种虚假的盼望，主张一个人可成为基督徒，却不必成为跟随主耶稣基督的人。它把福音的内容减低到基督为罪人而死的事实，要求罪人以简单的脑同意此事实，然后保证他们有永生的证据，就算他们没有重生都没关系。这是因为现代及后现代的福音运动都只对准一个目标，就是人吏福音听起来尽可能地简单且吸引人。从牧养的角度来说，这种福音只能产生出清教徒所说的福音伪君子。 麦卡瑟以诚实和深入的态度来审视耶稣的福音和他传道的方法，提供简明.清楚.直接.果断又合乎圣经的答案，来回应一些极端需要面对和解决的问题。本书是为那些在教会听道的男女老幼而写的，因为一般信徒也必须清楚明了这福音，而不只是神学生或牧师们。 | F20: 446 | G20: 9781932184433 | H20: 约翰˙麦卡瑟（John MacArthur） | I20: 美国麦种 | J20: 127 | K20: 15 | L20: 2
A21: 3 | B21: 美国麦种 | D21: 建立高EQ的教会--麦种 | E21: 本书以切身且热情洋溢的风格写成，为你指出情感健康教会的六个原则： 1. 察看表层底下的问题 2. 破除往事的影响力 3. 活在破碎和无能里面 4. 接受「有限」这个礼物 5. 接受悲痛与损失 6. 体现好好爱人的典范 书中充满感人的真实故事，以及切实可行的原则、讨论问题，帮助你评估自己的灵命与情感健康，建立高EQ而且灵命成熟的教会。 | F21: 336 | G21: 9781932184074 | H21: 彼得．史卡吉罗 | I21: 美国麦种 | J21: 105.3 | K21: 11.4731 | L21: 0
A22: 4 | B22: 美国麦种 | D22: 没有基督的基督教--麦种 | E22: 何顿认为，尽管我们还没有到达没有基督的基督教之境地，但我们已在前往的途中。虽然我们打着基督的名号，但太多时候却把基督和以基督为中心的福音束之高阁。其结果造成信息和信仰成了「微不足道、情绪化、一味的肯定、无关痛痒」。这种另类「福音」传达的信息是道德主义，个人的舒适，自助，自我完善，和个人主义的宗教。它轻视神，让衪成为达到我们自私目的之手段。何顿熟练地诊断问题，并指出了解决办法：回归救恩的纯正福音。对于任何一位关心基督教和美国教会——其实是普世教会——的现状以及未来的人，这本书都不可不读。 | F22: 354 | G22: 9781939251282 | H22: 迈克尔·霍顿 | I22: 美国麦种 | J22: 110 | K22: 13 | L22: 0
A23: 5 | B23: 美国麦种 | D23: 圣经教牧学(简)--麦种New | E23: 本书的目标是要鼓励并教导这一代与下一代的牧师、宣教士、和教师，帮助他们按照神的话所要求的去牧养并领导教会。本书以一种高度浓缩的形式提供了教牧神学课程大部分的内容，目标是装备人才牧养教会、在宣教工场承担教牧领导的职分、以及能尽到学院中的教导职责。 | F23: 316 | G23: 9781939251589 | H23: 约翰˙麦卡瑟（John MacArthur） | I23: 美国麦种 | J23: 208 | K23: 22.6629 | L23: 0
A24: 6 | B24: 美国麦种 | D24: 治死信徒身上的罪--麦种New | E24: 我认为，在关于个人圣洁这方面的著述中，约翰‧欧文的《信徒内住的罪》和《治死信徒身上的罪》乃是最为有益的。__毕哲思(Jerry Bridges)导航会前任副总裁，着有《恩典作王》等。 | F24: 204 | G24: 9781939251541 | H24: 约翰˙欧文（John Owen） | I24: 美国麦种 | J24: 85 | K24: 10 | L24: 0
A25: 7 | B25: 美国麦种 | D25: 保罗神学: 圣灵论--麦种 圣经神学 | E25: 本书对保罗文集中论及圣灵的所有经文进行了新颖独到的分析。通过对词汇、历史和文法方面的综合研究，费依逐节解释了保罗著作中的圣灵经文。接着，他探讨了圣灵在保罗神学—— 包括末世的应 验、三一神的 位 格、个人的得救及信 仰团体的 生活——中所扮演的角色。 这部精湛的作品填补了一项重要的空白。本书表明，”在保罗的基督徒经历里，圣灵扮演了至关重要的角色，所以，在他对福音的认识里也是如此。”费依首先为保罗书信中凡提到神的灵、圣灵和人的灵的经文提供了负责任的解经，然后进行神学综合。 本书涉及保罗书信的 160 多段经文，为牧师讲道提供了充满活力的资源。 | F25: 1228 | G25: 9781939251664 | H25: 戈登˙费依（Gordon D. Fee） | I25: 美国麦种 | J25: 446 | K25: 53.8244 | L25: 1
A26: 8 | B26: 美国麦种 | D26: 使徒行传--麦种圣经注释 | E26: 继路加福音那部详尽优美的注释大作后，博克这本期待已久的续集——760页的使徒行传注释——终于完成了。 清楚、引人入胜的写法，让大多数人都可以掌握，却没有牺牲与学术讨论的互动；博克审慎分析使徒行传庞大的文献数据，一路以优雅及技巧融入自己的见解。 这本注释书在未来许多年都将成为我们很好的帮助。 博克回来了，正处于登峰造极之时。 ——韦瑟林顿（Ben Witherington），阿斯伯里神学院（Asbury Theological Seminary）新约教授，圣安德鲁斯大学（St. Andrews University）博士班导师。 | F26: 1152 | G26: 9781939251701 | H26: 博克（Darrell L. Bock） | I26: 美国麦种 | J26: 396 | K26: 47.3088 | L26: 2
A27: 9 | B27: 美国麦种 | D27: 马歇尔新约神学 | E27: 《马歇尔新约神学》──许多见证人，一个福音「新约神学基本上就是宣教的神学。」这本久所企盼的新约神学，是作者浸淫新约研究领域数十年的集大成，显露出作者对新约文献的娴熟、清晰的思路、流畅的表达，不时透过现代人熟悉的比喻，将新约真理做出浅显易懂的介绍。现代的趋势强调新约圣经各书卷之间的差异性是无法调和的，但本书并未屈从于这样的趋势，反而主张确实可能存在综合的新约神学。从福音书与使徒行传开始，继之以保罗的每一卷书信，然后焦点转向约翰著作，最后查考希伯来书和其他的一般书信，马歇尔不断停下来比较各组书卷之间的异同，评估各种的观点。从而逐渐建立起综合性的新约神学，归纳出整本新约圣经的中心论题。在这个研究的过程中，作者清楚地凸显出新约书卷个别的见证。每一卷书，作者都逐段而精简扼要地介绍重点，然后是该卷书主要的中心论题，以及这个论题是如何铺陈的。因此，这本书也可以作为新约圣经的导论，是个人研经不可多得的工具书。英文版问世以来，已经迅速成为神学院与教会成人主日学 标准的教科书，适用于新约导论、新约神学、与新约信息等课程。 | F27: 728 | G27: 9781932184129 | H27: 马歇尔 | I27: 美国麦种 | J27: 278 | K27: 33 | L27: 5
A28: 10 | B28: 美国麦种 | D28: 罗马书注释(上)--麦种 | E28: 作者根据希腊文重新翻译罗马书经文，聚焦于神学意义与当代应用，为保罗这卷最具影响力的书信提供了非常出色而详细的分析、解释，呈现细致的学术涵养与实行的关注，对于精细的神学议题有敏锐感，也熟悉罗马书的诠释历史。获 www.bestcommentaries.com 评分98.8，远远超过第二名10分以上。 | F28: 838 | G28: 9781932184556 | H28: 穆尔 (Douglas J. Moo) | I28: 美国麦种 | J28: 322.4 | K28: 35.1275 | L28: 0
A29: 11 | B29: 美国麦种 | D29: 罗马书注释(下)--麦种 | E29: 作者根据希腊文重新翻译罗马书经文，聚焦于神学意义与当代应用，为保罗这卷最具影响力的书信提供了非常出色而详细的分析、解释，呈现细致的学术涵养与实行的关注，对于精细的神学议题有敏锐感，也熟悉罗马书的诠释历史。获 www.bestcommentaries.com 评分98.8，远远超过第二名10分以上。 | F29: 646 | G29: 9781932184563 | H29: 穆尔 (Douglas J. Moo) | I29: 美国麦种 | J29: 228 | K29: 27 | L29: 0
A30: 12 | B30: 美国麦种 | D30: 诗篇注释(上册)--麦种(调价 | E30: 「如果一位牧师或平信徒只想拥有一本诗篇注释，那就是这一本了！」——朗文（Tremper Longman III，《21世纪旧约导论》作者之一，另着有《心灵的回响——诗篇的信息与研读方法》本卷原著属于Expositor’s Bible Commentary之修订版，出版于2008年，主要增订在于连接每篇诗篇与前后诗篇之间的关系，让诗篇不再是各自零星独立，而能连贯起来，看出一脉相承的题旨。是这卷最受历代圣徒喜爱之书卷不可或缺的辅助读物。 | F30: 1800 | G30: 9781932184440 | H30: 范甘麦伦（Willem A. VanGemeren） | I30: 美国麦种 | J30: 295 | K30: 35.2691 | L30: 1
... A84: 66 | B84: 圣经 | D84: 圣经姊妹版--和合本简体(红皮拉链) | E84: 100%原创，作者背景跨越北美、台湾、新加坡、香港各地区。 信息超过一千二百篇，帮助姊妹应用于最贴身的七个生活范畴（属灵生命、个人成长、工作、婚姻、单身生活，人际关系、家庭．亲子）。 原创祷文、隽语，帮助姊妹消化经文。 66篇与女性生活接轨的书卷序言 。 从超过四十个古代《她的故事》寻找一个现代你、我、她。 三百多个智慧五味架，为读经旅程调上味道和色彩。 超过二十页的范畴索引、超过二十个图表、多层次阅读指引⋯⋯ | F84: 2232 | G84: 9789888286225 | H84: 多人 | I84: 汉语圣经协会 | J84: 348.4 | K84: 37.9603 | L84: 0
A85: 67 | B85: 圣经 | D85: 简明圣经--简体版 (增订版) | E85: 《简明圣经》依照语言学的原理翻译，并把其中所叙述的事情、所描写的情节、所教导的真理、以及所使用的语气和节奏，参照中国人的文化背景、思维方式，及语言习惯，以《新国际版圣经》为基础，和其他所有中、英文圣经对照，加以修改，力求正确并用简单、容易明白的中文表达。 | F85: 1042页 | G85: 9789866205798 | H85: 摩西等 | I85: 台湾道声 | J85: 80 | K85: 10 | L85: 77
A86: 68 | B86: 圣经 | D86: 圣经--樱花图案 | E86: 圣经中译里程碑《圣经和合本》问世百周年 ★ 造型轻巧，携带方便。 ★ 皮面压纹烫金，时尚品味、送礼自用两相宜。 ★ 华人教会普遍使用之中文和合本，适当代人阅读。 和合本圣经于1919年问世后，一直为众教会所使用，但随着时代的转变，众信徒对圣经要求的提升；如文字编排上的改进、编辑与成品的美观、携带与阅读的方便、供应上的畅答，可说是势在必行的一种改变。 五大特色： ‧ 皮面素材，兼具质感与实用性。 ‧ 缤纷花卉，读经灵修赏心悦目。 ‧ 烫金文字，凸显文艺典雅气息。 ‧ 边缘圆角，翻阅收纳轻巧便利。 ‧ 书边彩印，别出心裁创意设计。 | F86: 383 | G86: 9789865801939 | H86: 摩西等 | I86: 橄榄华宣 | J86: 236 | K86: 28 | L86: 18
A87: 69 | B87: 圣经 | D87: 圣经和合本-神版红字 (盒包装) | E87: 教会公用型圣经本款特色： 1.特色红字：耶稣所讲话语皆以红色标示。 2.使用普及：此款为教会中最常使用，阅读轻松不费力。 | F87: 383 | G87: 9789865801922 | H87: 摩西等 | I87: 橄榄华宣 | J87: 362 | K87: 43 | L87: 61
A88: 70 | B88: 圣经 | D88: 圣经(和合本) | E88: 和合本新旧约全书－－黑色面 (简) 分段标题，附地图及参考数据表。 | F88: 274 | G88: 0000000038 | H88: 多人 | I88: 基督使者 | J88: 195 | K88: 21.2465 | L88: 0
A89: 71 | B89: 圣经 | D89: 圣经 心灵关怀 新译本 | E89: 始自华人教会翘楚的异象 三十多年前，一群华人圣经学者有感为了福音的好处，以现代中文重译圣经，实 在刻不容缓。吴明节牧师.戴绍曾牧师.滕近辉牧师及鲍会园牧师等人，带着先知 的洞见，在1972年成立中文圣新译会(新译会)，即环球圣经公会的前身，奋起承 担圣经翻译的圣工。 .集合华人圣经学者的努力 自新译会成立，超过百位知名华人教牧学者参与翻译，花了二十年时间译成圣经 新译本。十多年来，环圣不断广邀世界各地华人圣经学者参与修订工作，务求圣 经译忠于原文，与时并进，精益求精。 .广纳华人信徒各方的意见 自<圣经新译本>出版至今，环圣广纳和信徒的意见，不断修订或会引致神学误 会，思想欠清晰的翻译。时至今日，圣经新译本已成为成熟的中文圣经译本。为 了配合不同群体的需要，环圣推出多款中英圣经和主题圣经。 .已成华人信徒公用的圣经 秉承信仰传统，易读易懂的圣经新译本广为港台新马.英美纽澳.中日欧洲等地华 人信徒接受，成为教会公用或参考的圣经。 | F89: 1917 | G89: 9789888018819 | H89: 多位 | I89: 环球圣经公会 | J89: 331.5 | K89: 36.119 | L89: 0
A90: 72 | B90: 圣经 | D90: 圣经新译本 ESV 中英对照 （黑硬） | E90: 圣经新译本 | ESV Text Edition 2016 读经悟人生•‧‧行道传主恩 2016年出版的ESV秉承圣经直译的传统，并加以改进，舍弃絶对直译，而采用直译为本的原则，在翻译时考虑原文和译文在语言学上的差异，使译文更贴近现代的用语。 《圣经新译本》同样讲究忠于原文，尽量在合乎中文文法的规范下，保留原作者的风格文采。英文语法与原文较接近，复合句层次较强；中文语法则较精炼简洁，连接词不多；两种语文并排，对表达经文原意可谓相得益彰。 本对照圣经最适合要求对原文每个字词都有精准翻译的读者。 特色 ◆ 中英文译文流畅，易读易懂。 ◆ 内文用经段并排方式，分段标题清晰，有助掌握经文梗概。 ◆ 平行经文指示相同事件或类似事件的出处，方便互相参照，增进了解。 ◆ 附ESV注解，加深对经文的了解，包括异文评注、原文译注等。 ◆ 书末附从始祖时期至早期教会的圣经历史年代表和圣经地图。 ◆ 附彩色赠送页，让你写下心底赠词。 | F90: 2080 | G90: 9789888124480 | H90: 多位 | I90: 环球圣经公会 | J90: 337 | K90: 40 | L90: 16
A91: 73 | B91: 圣经 | D91: 圣经新译本ESV 中英对照 （彩色包装） | E91: 大小：145 x 200mm 2011年出版的ESV秉承圣经直译的传统，并加以改进，舍弃絶对直译，而采用直译为本的原则，在翻译时考虑原文和译文在语言学上的差异，使译文更贴近现代的用语。《圣经新译本》同样讲究忠于原文，尽量在合乎中文文法的规范下，保留原作者的风格文采。英文语法与原文较接近，复合句层次较强；中文语法则较精炼简洁，连接词不多；两种语文并排，对表达经文原意可谓相得益彰。本对照圣经最适合要求对原文每个字词都有精准翻译的读者。 特色： * 中英文译文流畅，易读易懂。 * 内文用经段并排方式，分段标题清晰，有助掌握经文梗概。 * 平行经文指示相同事件或类似事件的出处，方便互相参照，增进了解。 * 附ESV注解，加深对经文的了解，包括异文评注、原文译注等。 *书末附从始祖时期至早期教会的圣经历史年代表和圣经地图。 * 附彩色赠送页，让你写下心底赠 | F91: 2080 | G91: 9789888124497 | H91: 多位 | I91: 环球圣经公会 | J91: 328 | K91: 39 | L91: 14
A92: 74 | B92: 圣经 | D92: 圣经新译本 （粉色银边拉链拇指索引） | E92: 第一本集各地华人信徒的智慧和力量翻译而成的中文圣经译本，内容忠于原文，文字追上时代，辅读资料齐全，一读就懂，个人阅读或教会公用同样适宜。 特色 ◆ 三十多位华人圣经学者、教会领袖、中文学者共同努力的成果。 ◆ 由原文直接翻译而成。 ◆ 尽量贴近原文，在直译与意译之间取得合宜的平衡。 ◆ 二十多位学者与牧者撰写各类书卷总论和各书卷简介。 ◆ 附各类书卷的释经法。 ◆ 采用文学释经法剖析各书卷的内容。 ◆ 解明各书卷与旧约或新约的关系。 ◆ 为读者提供读经提示，引导他们反省并在生活中应用神的话语。 ◆ 于正文内加注，列出其他抄本有出入的地方，及提供其他可能的译法。 ◆ 根据每段经文的重点加上分段标题，使段落清晰，方便查阅及理解。 ◆ 部分分段标题后附加平行经文，显示其他相同或类似的记载，以资参考。 ◆ 书末加插新旧约词汇浅释、圣经历史年代表和地图等辅助研经资料。 | F92: 1439 | G92: 9789888124879 | H92: 多位 | I92: 环球圣经公会 | J92: 270 | K92: 32 | L92: 12
A93: 75 | B93: 圣经 | D93: 圣经新译本 （黑色金边拉链拇指索引） | E93: 第一本集各地华人信徒的智慧和力量翻译而成的中文圣经译本，内容忠于原文，文字追上时代，辅读资料齐全，一读就懂，个人阅读或教会公用同样适宜。 特色 ◆ 三十多位华人圣经学者、教会领袖、中文学者共同努力的成果。 ◆ 由原文直接翻译而成。 ◆ 尽量贴近原文，在直译与意译之间取得合宜的平衡。 ◆ 二十多位学者与牧者撰写各类书卷总论和各书卷简介。 ◆ 附各类书卷的释经法。 ◆ 采用文学释经法剖析各书卷的内容。 ◆ 解明各书卷与旧约或新约的关系。 ◆ 为读者提供读经提示，引导他们反省并在生活中应用神的话语。 ◆ 于正文内加注，列出其他抄本有出入的地方，及提供其他可能的译法。 ◆ 根据每段经文的重点加上分段标题，使段落清晰，方便查阅及理解。 ◆ 部分分段标题后附加平行经文，显示其他相同或类似的记载，以资参考。 ◆ 书末加插新旧约词汇浅释、圣经历史年代表和地图等辅助研经资料。 | F93: 1439 | G93: 9789888124862 | H93: 多位 | I93: 环球圣经公会 | J93: 270 | K93: 32 | L93: 21
A94: 76 | B94: 圣经 | D94: 圣经 新译本 黑色 （简体神字版） | E94: 第一本集各地华人信徒的智慧和力量翻译而成的中文圣经译本，内容忠于原文，文字追上时代，辅读资料齐全，一读就懂，个人阅读或教会公用同样适宜。 特色 ◆ 三十多位华人圣经学者、教会领袖、中文学者共同努力的成果。 ◆ 由原文直接翻译而成。 ◆ 尽量贴近原文，在直译与意译之间取得合宜的平衡。 ◆ 二十多位学者与牧者撰写各类书卷总论和各书卷简介。 ◆ 附各类书卷的释经法。 ◆ 采用文学释经法剖析各书卷的内容。 ◆ 解明各书卷与旧约或新约的关系。 ◆ 为读者提供读经提示，引导他们反省并在生活中应用神的话语。 ◆ 于正文内加注，列出其他抄本有出入的地方，及提供其他可能的译法。 ◆ 根据每段经文的重点加上分段标题，使段落清晰，方便查阅及理解。 ◆ 部分分段标题后附加平行经文，显示其他相同或类似的记载，以资参考。 ◆ 书末加插新旧约词汇浅释、圣经历史年代表和地图等辅助研经资料。 | F94: 1439 | G94: 9789888018956 | H94: 多位 | I94: 环球圣经公会 | J94: 202 | K94: 24 | L94: 26
A95: 77 | B95: 圣经 | D95: 圣经新译本 （前蓝色银边拉链拇指索引） | E95: 第一本集各地华人信徒的智慧和力量翻译而成的中文圣经译本，内容忠于原文，文字追上时代，辅读资料齐全，一读就懂，个人阅读或教会公用同样适宜。 特色 ◆ 三十多位华人圣经学者、教会领袖、中文学者共同努力的成果。 ◆ 由原文直接翻译而成。 ◆ 尽量贴近原文，在直译与意译之间取得合宜的平衡。 ◆ 二十多位学者与牧者撰写各类书卷总论和各书卷简介。 ◆ 附各类书卷的释经法。 ◆ 采用文学释经法剖析各书卷的内容。 ◆ 解明各书卷与旧约或新约的关系。 ◆ 为读者提供读经提示，引导他们反省并在生活中应用神的话语。 ◆ 于正文内加注，列出其他抄本有出入的地方，及提供其他可能的译法。 ◆ 根据每段经文的重点加上分段标题，使段落清晰，方便查阅及理解。 ◆ 部分分段标题后附加平行经文，显示其他相同或类似的记载，以资参考。 ◆ 书末加插新旧约词汇浅释、圣经历史年代表和地图等辅助研经资料。 | F95: 1439 | G95: 9789888124886 | H95: 多位 | I95: 环球圣经公会 | J95: 326.3 | K95: 35.5524 | L95: 24
A96: 78 | B96: 圣经 | D96: 圣经 新译本 （大蓝色皮面银边拉链） | E96: 第一本集各地华人信徒的智慧和力量翻译而成的中文圣经译本，内容忠于原文，文字追上时代，辅读资料齐全，一读就懂，个人阅读或教会公用同样适宜。 特色 ◆ 三十多位华人圣经学者、教会领袖、中文学者共同努力的成果。 ◆ 由原文直接翻译而成。 ◆ 尽量贴近原文，在直译与意译之间取得合宜的平衡。 ◆ 二十多位学者与牧者撰写各类书卷总论和各书卷简介。 ◆ 附各类书卷的释经法。 ◆ 采用文学释经法剖析各书卷的内容。 ◆ 解明各书卷与旧约或新约的关系。 ◆ 为读者提供读经提示，引导他们反省并在生活中应用神的话语。 ◆ 于正文内加注，列出其他抄本有出入的地方，及提供其他可能的译法。 ◆ 根据每段经文的重点加上分段标题，使段落清晰，方便查阅及理解。 ◆ 部分分段标题后附加平行经文，显示其他相同或类似的记载，以资参考。 ◆ 书末加插新旧约词汇浅释、圣经历史年代表和地图等辅助研经资料。 | F96: 1439 | G96: 9789888018949 | H96: 多位 | I96: 环球圣经公会 | J96: 287 | K96: 34 | L96: 2
A97: 79 | B97: 圣经 | D97: 圣经新译本中英对照 N I V （棕色金边） | E97: NIV于1978年出版，是目前最广受欢迎的英文译本，英语教会多采用。其翻译宗旨力求忠实表达原意，强调译文要通顺、简单、易读。《圣经新译本》在忠于原文的同时，采用现代中文作为翻译的媒介，行文流畅，易读易懂。喜爱一气呵成读圣经的朋友，或需要在短时间内掌握长篇经文的读者，本对照圣经自然是首选。 特色 ◆ 内文用经段并排方式，平行对照，清楚易读。 ◆ 平行经文指示相同事件或类似事件的出处，方便互相参看，增进了解。 ◆ 分段标题清晰，有助掌握经文梗概。 ◆ 书末备有圣经地图14幅。 ◆ 附彩色送赠页，让你写下心底赠词。 | F97: 2235 | G97: 9789888279609 | H97: 多位 | I97: 环球圣经公会 | J97: 425.1 | K97: 46.3173 | L97: 30
...

Sheet 国内书单
A1: 国内书单
A2: 您好：您可以通过下列序号索引快速找到所需类别书籍。
A3: 序号001-084：儿童绘本读物（国内书单）
A4: 序号085-111：福音文学
A5: 序号112-122：工作信仰生活
A6: 序号123-265：婚恋家庭亲子
A7: 序号266-275：基督教经典丛译
A8: 序号276-306：见证传记
A9: 序号307-309：教会牧养
A10: 序号310-319：历史与文化
A11: 序号320-483：灵命塑造与心灵关怀
A12: 序号484-501：青少年读物
... A16: 序号565-571：宗教信仰研究
A17: 序号 | B17: 图书名称 | C17: 书 号 | D17: 类别 | E17: 作者 | F17: 出版社 | G17: 人民币 | H17: 库存
A18: 1 | B18: 儿童注意力训练手册（新版） | C18: 9787561432792 | D18: 儿童读物绘本 | E18: 劳特(Lauth.G.W)^施洛特克 | F18: 四川大学 | G18: 58.00 | H18: =_xlfn.XLOOKUP(C18,Sheet1!A:A,Sheet1!E:E,) -> 1
A19: 2 | B19: 嘱托 《 耶稣的叮咛 》 | C19: 9787552702750 | D19: 儿童读物绘本 | E19: 莎拉·杨 | F19: 甘肃人美 | G19: 88.00 | H19: =_xlfn.XLOOKUP(C19,Sheet1!A:A,Sheet1!E:E,) -> 0
A20: 3 | B20: 儿童注意力训练父母手册 | C20: 9787561433484 | D20: 儿童读物绘本 | E20: （德）劳特/施洛特克/瑙曼 | F20: 四川大学 | G20: 26.00 | H20: =_xlfn.XLOOKUP(C20,Sheet1!A:A,Sheet1!E:E,) -> 8
A21: 4 | B21: 《爱你本来的样子》中英双语典藏版-白壳精装 | C21: 9787506097147 | D21: 儿童读物绘本 | E21: 陆可铎 | F21: 东方出版 | G21: 39.00 | H21: =_xlfn.XLOOKUP(C21,Sheet1!A:A,Sheet1!E:E,) -> 5
A22: 5 | B22: 《你是我的孩子》中英双语典藏版-白壳精装 | C22: 9787506097130 | D22: 儿童读物绘本 | E22: 陆可铎 | F22: 东方出版 | G22: 42.00 | H22: =_xlfn.XLOOKUP(C22,Sheet1!A:A,Sheet1!E:E,) -> 9
A23: 6 | B23: 《你所需要的》中英双语典藏版-白壳精装 | C23: 9787506097123 | D23: 儿童读物绘本 | E23: 陆可铎 | F23: 东方出版 | G23: 39.00 | H23: =_xlfn.XLOOKUP(C23,Sheet1!A:A,Sheet1!E:E,) -> 9
A24: 7 | B24: 《因为我爱你》中英双语典藏版-白壳精装 | C24: 9787506097161 | D24: 儿童读物绘本 | E24: 陆可铎 | F24: 东方出版 | G24: 39.00 | H24: =_xlfn.XLOOKUP(C24,Sheet1!A:A,Sheet1!E:E,) -> 7
A25: 8 | B25: 陆可铎"你很特别"系列之：艾文的帽子 | C25: 9787212089450 | D25: 儿童读物绘本 | E25: 【美】陆可铎 | F25: 安徽人民 | G25: 32.80 | H25: =_xlfn.XLOOKUP(C25,Sheet1!A:A,Sheet1!E:E,) -> 1
A26: 9 | B26: 陆可铎"你很特别"系列之：橡果中的橡树 | C26: 9787212089382 | D26: 儿童读物绘本 | E26: 【美】陆可铎 | F26: 安徽人民 | G26: 38.00 | H26: =_xlfn.XLOOKUP(C26,Sheet1!A:A,Sheet1!E:E,) -> 1
A27: 10 | B27: 你是我的孩子（中英对照版） | C27: 9787210082507 | D27: 儿童读物绘本 | E27: 陆可译 | F27: 江西人民 | G27: 18.00 | H27: =_xlfn.XLOOKUP(C27,Sheet1!A:A,Sheet1!E:E,) -> 9
A28: 11 | B28: 生命的种子系列2-儿童品德教育·全球精选儿童中英对照版（全8册） | C28: 9787552705041 | D28: 儿童读物绘本 | E28: 戴薇 | F28: 甘肃人民 | G28: 258.00 | H28: =_xlfn.XLOOKUP(C28,Sheet1!A:A,Sheet1!E:E,) -> 0
A29: 12 | B29: 生命的种子系列III-儿童品格教育·全球精选儿童中英文对照绘本（全8册） | C29: 9787569018592 | D29: 儿童读物绘本 | E29: 戴薇 | F29: 四川大学出版社 | G29: 268.00 | H29: =_xlfn.XLOOKUP(C29,Sheet1!A:A,Sheet1!E:E,) -> 11
... A199: 182 | B199: 育儿新知-让孩子生长的最好 | C199: 9787542641595 | D199: 婚恋家庭亲子 | E199: 梁淑芳 | F199: 上海三联 | G199: 26.00 | H199: =_xlfn.XLOOKUP(C199,Sheet1!A:A,Sheet1!E:E,) -> 2
A200: 183 | B200: 窗外依然有蓝天（新版） | C200: 9787210044857 | D200: 婚恋家庭亲子 | E200: 黄维仁 编 | F200: 江西人民出版社 | G200: 26 | H200: =_xlfn.XLOOKUP(C200,Sheet1!A:A,Sheet1!E:E,) -> 5
A201: 184 | B201: 我心狂野—男人就要活出男人的样子 | C201: 9787229021306 | D201: 婚恋家庭亲子 | E201: (美)艾杰奇 | F201: 重庆出版社 | G201: 26.00 | H201: =_xlfn.XLOOKUP(C201,Sheet1!A:A,Sheet1!E:E,) -> 1
A202: 185 | B202: 爱，逆转胜-一个被爱所拯救又全身心地传播爱的故事 | C202: 9787506052757 | D202: 婚恋家庭亲子 | E202: 纪宝如 魏棻卿 | F202: 东方出版 | G202: 27.00 | H202: =_xlfn.XLOOKUP(C202,Sheet1!A:A,Sheet1!E:E,) -> 3
A203: 186 | B203: 家庭会伤人 | C203: 9787561436738 | D203: 婚恋家庭亲子 | E203: [美] 约翰·布雷萧 | F203: 四川大学 | G203: 31.00 | H203: =_xlfn.XLOOKUP(C203,Sheet1!A:A,Sheet1!E:E,) -> 1
A204: 187 | B204: 为孩子立界线（新版） | C204: 9787807475767 | D204: 婚恋家庭亲子 | E204: 克劳德 | F204: 海天出版社 | G204: 32.00 | H204: =_xlfn.XLOOKUP(C204,Sheet1!A:A,Sheet1!E:E,) -> 31
A205: 188 | B205: 单身爱之语 | C205: 9787210035558 | D205: 婚恋家庭亲子 | E205: [美] 查普曼 | F205: 江西人民出版社 | G205: 20.00 | H205: =_xlfn.XLOOKUP(C205,Sheet1!A:A,Sheet1!E:E,) -> 7
A206: 189 | B206: 亲子书 | C206: 9787531692874 | D206: 婚恋家庭亲子 | E206: （英）李力奇 李希拉 | F206: 黑龙江教育 | G206: 46.00 | H206: =_xlfn.XLOOKUP(C206,Sheet1!A:A,Sheet1!E:E,) -> 3
A207: 190 | B207: 从0岁开始（套装共4册） | C207: 9787508095820 | D207: 婚恋家庭亲子 | E207: （美)盖瑞·艾卓 安·玛莉 | F207: 华夏出版社 | G207: 38.00 | H207: =_xlfn.XLOOKUP(C207,Sheet1!A:A,Sheet1!E:E,) -> 7
A208: 191 | B208: 丰盈心态养孩子 （新版） | C208: 9787516816417 | D208: 婚恋家庭亲子 | E208: [美] 蒋佩蓉 | F208: 台海出版社 | G208: 46.00 | H208: =_xlfn.XLOOKUP(C208,Sheet1!A:A,Sheet1!E:E,) -> 0
A209: 192 | B209: 开启男人潜藏的价值 | C209: 9787210038023 | D209: 婚恋家庭亲子 | E209: [美]史葛利 特约翰博士着 吴苏心美 译 | F209: 江西人民 | G209: 26.00 | H209: =_xlfn.XLOOKUP(C209,Sheet1!A:A,Sheet1!E:E,) -> 3
A210: 193 | B210: 女性心灵故事 | C210: 9787201048932 | D210: 婚恋家庭亲子 | E210: 葛爱丽（美） | F210: 江西人民 | G210: 28.00 | H210: =_xlfn.XLOOKUP(C210,Sheet1!A:A,Sheet1!E:E,) -> 5
A211: 194 | B211: 女人误信的谎言 | C211: 9787510419607 | D211: 婚恋家庭亲子 | E211: 狄楠熙 | F211: 新世界出版社 | G211: 28.00 | H211: =_xlfn.XLOOKUP(C211,Sheet1!A:A,Sheet1!E:E,) -> 1
A212: 195 | B212: 镜中的男人(加印） | C212: 9787223021883 | D212: 婚恋家庭亲子 | E212: 帕特·摩利 | F212: 西藏人民 | G212: 29.80 | H212: =_xlfn.XLOOKUP(C212,Sheet1!A:A,Sheet1!E:E,) -> 6
...

Sheet Sheet1
A1: 货品编号 | B1: 品名 | C1: 规格 | D1: 单位 | E1: 库存量 | F1: 不良品 | G1: 零售价
A2: 9788990233370 | B2: 中文拼音圣经 | E2: 1008 | F2: 0 | G2: 234
A3: 9789861988702 | B3: 为青少年立界线 | E3: 10 | F3: 0 | G3: 83
A4: 9789575505066 | B4: 我的第一本床边圣经故事 | E4: 15 | F4: 0 | G4: 46
A5: 9789575505097 | B5: 上帝是我的好朋友--故事圣经 | E5: 15 | F5: 0 | G5: 133
A6: 9789888286157 | B6: 圣经新普及译本--汉语拼音版（送DVD自学普通话） | E6: 5 | F6: 0 | G6: 312
A7: 9789622936508 | B7: 经文汇编 | E7: 5 | F7: 0 | G7: 117
A8: 9787510441967 | B8: 最棒的礼物 | E8: 5 | F8: 0 | G8: 45
A9: 9789887888949 | B9: 情。欲。线--神学 文化与伦理析论 | E9: 0 | F9: 0 | G9: 83
A10: 9789861986785 | B10: 老摩西的牧养学 | E10: 0 | F10: 0 | G10: 55
A11: 9789869516501 | B11: 灵风飙起 | E11: 1 | F11: 0 | G11: 87
A12: 9789865809201 | B12: 上帝的大能--福音神学基础 | E12: 1 | F12: 0 | G12: 0
A13: 9789622087514 | B13: 职场伦理学 | E13: 1 | F13: 0 | G13: 112
... A1457: 9789624572452 | B1457: 使徒行传与保罗书信要领 | E1457: 1 | F1457: 0 | G1457: 74
